BEGIN:VCALENDAR
VERSION:2.0
METHOD:PUBLISH
BEGIN:VEVENT
DTSTART:20241203T074500
DTEND:20241203T100000
LOCATION:siedziba firmy Grand Parade Kotlarska 11  Kraków
TRANSP: OPAQUE
SEQUENCE:0
UID:
DTSTAMP:20260419T174421Z
SUMMARY:#3 ŚNIADANIE BIZNESOWE "well-being = well-business" - MINDFULNESS jako narzędzie prewencyjne w profilaktyce WYPALENIA - nie tylko zawodowego.  Jak to działa? Dlaczego to działa? + ćwiczenia praktyczne
DESCRIPTION:Spotykamy się OFFLINE 03.12.2024 o 7:45-10:00, tym razem dzięki uprzejmości firmy Grand Parade - w ich biurze pod adresem - Kotlarska 11, 31-539 Kraków. W cenie biletu: prelekcja, networking,......
URL:https://app.evenea.pl/event/mindfulness-3/
PRIORITY:1
CLASS:PUBLIC
END:VEVENT
END:VCALENDAR
