BEGIN:VCALENDAR
VERSION:2.0
METHOD:PUBLISH
BEGIN:VEVENT
DTSTART:20221019T180000
DTEND:20221019T193000
LOCATION:Thinking Zone al. Grunwaldzka 472 | Olivia Gate B  Gdańsk
TRANSP: OPAQUE
SEQUENCE:0
UID:
DTSTAMP:20260423T125622Z
SUMMARY:Warsztat "Techniki mindfulness w trosce o siebie i dziecko."
DESCRIPTION:Zapraszamy Państwa na warsztat zatytułowany "Techniki mindfulness w trosce o siebie i dziecko. Redukcja stresu i profilaktyka depresji". Spotkanie dedykowane jest osobom zapracowanym, żyjącym w......
URL:https://app.evenea.pl/event/minfulness/
PRIORITY:1
CLASS:PUBLIC
END:VEVENT
END:VCALENDAR
