BEGIN:VCALENDAR
VERSION:2.0
METHOD:PUBLISH
BEGIN:VEVENT
DTSTART:20260531T123000
DTEND:20260531T123000
LOCATION:Państwowa Szkoła Muzyczna I i II stopnia im. Karola Szymanowskiego w Płocku Kolegialna 23  Płock
TRANSP: OPAQUE
SEQUENCE:0
UID:
DTSTAMP:20260420T124358Z
SUMMARY:Miś Doremiś
DESCRIPTION:"Miś Doremiś" to cykl koncertów edukacyjno-artystycznych dla dzieci w wieku do 6 lat i opiekunów.Koncerty mają na celu w przystępny sposób wprowadzić dzieci w świat muzyki, zapoznać z......
URL:https://app.evenea.pl/event/misdoremis/
PRIORITY:1
CLASS:PUBLIC
END:VEVENT
END:VCALENDAR
