BEGIN:VCALENDAR
VERSION:2.0
METHOD:PUBLISH
BEGIN:VEVENT
DTSTART:20250314T170000
DTEND:20250314T190000
LOCATION:Książnica Pomorska Podgórna 15/16  Szczecin
TRANSP: OPAQUE
SEQUENCE:0
UID:
DTSTAMP:20260419T145936Z
SUMMARY:Planszówkowy Miszmasz: Graj i Odkrywaj!
DESCRIPTION: Czy wiesz, czym różni się eurogame od ameritrash? A może chcesz odkryć nowe tytuły i nauczyć się rozróżniać różne gatunki gier planszowych? Zapraszamy na wyjątkowe spotkanie, podczas......
URL:https://app.evenea.pl/event/miszmasz/
PRIORITY:1
CLASS:PUBLIC
END:VEVENT
END:VCALENDAR
