BEGIN:VCALENDAR
VERSION:2.0
METHOD:PUBLISH
BEGIN:VEVENT
DTSTART:20250820T163000
DTEND:20250820T163000
LOCATION:Urban Lab w Raciborzu Plac Dworcowy 1  Racibórz
TRANSP: OPAQUE
SEQUENCE:0
UID:
DTSTAMP:20260424T081146Z
SUMMARY:Spotkanie edukacyjne w Raciborzu - Moc Małych Społeczności
DESCRIPTION:Zapraszamy na spotkanie edukacyjne w Raciborzu!Centrum Rozwoju Inicjatyw Społecznych CRIS serdecznie zaprasza przedstawicieli lokalnych organizacji pozarządowych oraz grup nieformalnych z......
URL:https://app.evenea.pl/event/mmsraciborz/
PRIORITY:1
CLASS:PUBLIC
END:VEVENT
END:VCALENDAR
