BEGIN:VCALENDAR
VERSION:2.0
METHOD:PUBLISH
BEGIN:VEVENT
DTSTART:20250826T170000
DTEND:20250826T170000
LOCATION:online   
TRANSP: OPAQUE
SEQUENCE:0
UID:
DTSTAMP:20260424T080911Z
SUMMARY:Webinar edukacyjny - Moc Małych Społeczności
DESCRIPTION:Zapraszamy na webinar edukacyjny!Centrum Rozwoju Inicjatyw Społecznych CRIS serdecznie zaprasza przedstawicieli lokalnych organizacji pozarządowych oraz grup nieformalnych z subregionu......
URL:https://app.evenea.pl/event/mmswebinar/
PRIORITY:1
CLASS:PUBLIC
END:VEVENT
END:VCALENDAR
