BEGIN:VCALENDAR
VERSION:2.0
METHOD:PUBLISH
BEGIN:VEVENT
DTSTART:20250820T170000
DTEND:20250820T170000
LOCATION:Żorskie Centrum Organizacji Pozarządowych os. Sikorskiego 52  Żory
TRANSP: OPAQUE
SEQUENCE:0
UID:
DTSTAMP:20260424T080911Z
SUMMARY:Spotkanie edukacyjne w Żorach - Moc Małych Społeczności
DESCRIPTION:Zapraszamy na spotkanie edukacyjne w Żorach!Centrum Rozwoju Inicjatyw Społecznych CRIS serdecznie zaprasza przedstawicieli lokalnych organizacji pozarządowych oraz grup nieformalnych z......
URL:https://app.evenea.pl/event/mmszory/
PRIORITY:1
CLASS:PUBLIC
END:VEVENT
END:VCALENDAR
