BEGIN:VCALENDAR
VERSION:2.0
METHOD:PUBLISH
BEGIN:VEVENT
DTSTART:20240805T120000
DTEND:20240805T150000
LOCATION:Centrum Rozwoju Talentów Grunwaldzka 472d  Gdańsk
TRANSP: OPAQUE
SEQUENCE:0
UID:
DTSTAMP:20260420T150620Z
SUMMARY:Warsztaty: Mój sposób na przedsiębiorczość
DESCRIPTION:Pomysł na własną działalność jest kwestią kluczową, ale to nie wszystko. Dobrze ustalić do jakiej roli w przypadku prowadzenia własnej firmy się nadajemy. Czy na pewno będziemy w stanie......
URL:https://app.evenea.pl/event/moj-sposob-na-przesiebiorczosc/
PRIORITY:1
CLASS:PUBLIC
END:VEVENT
END:VCALENDAR
