BEGIN:VCALENDAR
VERSION:2.0
METHOD:PUBLISH
BEGIN:VEVENT
DTSTART:20221125T160000
DTEND:20221125T160000
LOCATION:Online   
TRANSP: OPAQUE
SEQUENCE:0
UID:
DTSTAMP:20260420T032151Z
SUMMARY:Webinar - Jak wzmocnić motywację na drodze do sukcesu?
DESCRIPTION:Bezpłatny Webinar dla kobiet z branży nieruchomościJak wzmocnić motywację na drodze do sukcesu?Zapraszamy na bezpłatny Webinar "Jak wzmocnić motywację na drodze do sukcesu?"Podczas webinaru......
URL:https://app.evenea.pl/event/motywacjanadrodzedosukcesu/
PRIORITY:1
CLASS:PUBLIC
END:VEVENT
END:VCALENDAR
