BEGIN:VCALENDAR
VERSION:2.0
METHOD:PUBLISH
BEGIN:VEVENT
DTSTART:20260904T150400
DTEND:20260906T130400
LOCATION:Morze Bałtyckie (Białogóra i okolice)   Białogóra
TRANSP: OPAQUE
SEQUENCE:0
UID:
DTSTAMP:20260425T024237Z
SUMMARY:Małżeńska Przygoda 4MPL
DESCRIPTION:Małżeństwo to historia, którą wspólnie piszecie. To jedna opowieść z wieloma rozdziałami, na które macie wpływ. W tym twórczym procesie potrzebujemy wciąż uczyć się siebie nawzajem......
URL:https://app.evenea.pl/event/mp-2026/
PRIORITY:1
CLASS:PUBLIC
END:VEVENT
END:VCALENDAR
