BEGIN:VCALENDAR
VERSION:2.0
METHOD:PUBLISH
BEGIN:VEVENT
DTSTART:20220913T090000
DTEND:20220913T130000
LOCATION:Raciborska Izba Gospodarcza Batorego 7  Racibórz
TRANSP: OPAQUE
SEQUENCE:0
UID:
DTSTAMP:20260423T175357Z
SUMMARY:Mobilny Punkt Informacyjny w Raciborzu
DESCRIPTION:Raciborski Inkubator Przedsiębiorczości, Raciborska Izba Gospodarcza oraz Główny Punkt Informacyjny Funduszy Europejskich w Katowicach zapraszają na bezpłatne konsultacje indywidualne na......
URL:https://app.evenea.pl/event/mpi-raciborz-2022/
PRIORITY:1
CLASS:PUBLIC
END:VEVENT
END:VCALENDAR
