BEGIN:VCALENDAR
VERSION:2.0
METHOD:PUBLISH
BEGIN:VEVENT
DTSTART:20240824T180000
DTEND:20240824T213000
LOCATION:Muzeum Powstań Śląskich w Świętochłowicach ul. Wiktora Polaka 1  Świętochłowice
TRANSP: OPAQUE
SEQUENCE:0
UID:
DTSTAMP:20260424T215137Z
SUMMARY:NOCNA GRA MIEJSKA w Muzeum Powstań Śląskich
DESCRIPTION:NOCNA GRA MIEJSKA W ŚWIĘTOCHŁOWICACHLubicie poznawać ciekawe miejsca i słuchać pasjonujących historii? Chcecie dowiedzieć się, jak wyglądało życie mieszkańców Świętochłowic 100 lat......
URL:https://app.evenea.pl/event/muzeumpowstan/
PRIORITY:1
CLASS:PUBLIC
END:VEVENT
END:VCALENDAR
