BEGIN:VCALENDAR
VERSION:2.0
METHOD:PUBLISH
BEGIN:VEVENT
DTSTART:20200829T140000
DTEND:20200829T140000
LOCATION:Plac przed Centrum Kongresowym ICE Kraków (ul. Barska, Kraków)   
TRANSP: OPAQUE
SEQUENCE:0
UID:
DTSTAMP:20260419T171731Z
SUMMARY:MUZYCZNE PLENERY: DZIEŃ DOBRY ICE KRAKÓW - AGI BAGI
DESCRIPTION:Wyjątkowa gratka dla dzieci i ich rodziców!Zapraszamy na jedyny taki, plenerowy koncert Dzień dobry ICE Kraków: Agi Bagi, w ramach którego usłyszmy muzykę skomponowaną przez Łukasza......
URL:https://app.evenea.pl/event/muzyczne-plenery-agi-bagi/
PRIORITY:1
CLASS:PUBLIC
END:VEVENT
END:VCALENDAR
