BEGIN:VCALENDAR
VERSION:2.0
METHOD:PUBLISH
BEGIN:VEVENT
DTSTART:20220412T080000
DTEND:20220412T080000
LOCATION:Online lub na żywo: Teatr Szekspirowski w Gdańsku   
TRANSP: OPAQUE
SEQUENCE:0
UID:
DTSTAMP:20260423T145424Z
SUMMARY:Konferencja Marketing w Kulturze 2022
DESCRIPTION:Uwaga: od dnia 11.04 sprzedaż biletów na wersję online odbywa się tylko za pomoca szybkiej płatności internetowej.Jak promować wydarzenia kulturalne? Skąd czerpać inspiracje? W jaki......
URL:https://app.evenea.pl/event/mwk2022/
PRIORITY:1
CLASS:PUBLIC
END:VEVENT
END:VCALENDAR
