BEGIN:VCALENDAR
VERSION:2.0
METHOD:PUBLISH
BEGIN:VEVENT
DTSTART:20220411T110000
DTEND:20220411T110000
LOCATION:Gdański Teatr Szekspirowski/The Gdansk Shakespeare Theatre Wojciecha Bogusławskiego 1  Gdańsk
TRANSP: OPAQUE
SEQUENCE:0
UID:
DTSTAMP:20260423T144340Z
SUMMARY:wyprzedane: Warsztat: Jak tworzyć ciekawe treści wideo dysponując zerowym budżetem? Konferencja Marketing w Kulturze
DESCRIPTION:Dołącz do szkolenia "Jak tworzyć ciekawe treści wideo dysponując zerowym budżetem?". Zajęcia praktyczne, nie tylko z samego tworzenia, ale także z publikacji treści w internecie z Marcinem......
URL:https://app.evenea.pl/event/mwkwarsztatyaudioiwideo/
PRIORITY:1
CLASS:PUBLIC
END:VEVENT
END:VCALENDAR
