BEGIN:VCALENDAR
VERSION:2.0
METHOD:PUBLISH
BEGIN:VEVENT
DTSTART:20220411T110000
DTEND:20220411T110000
LOCATION:Instytut Kultury Miejskiej, 4 piętro sala 407 ul. Długi Targ 39/40  Gdańsk
TRANSP: OPAQUE
SEQUENCE:0
UID:
DTSTAMP:20260423T153932Z
SUMMARY:Tworzenie podcastów z Agnieszką Obszańską | Konferencja Marketing w Kulturze 2022
DESCRIPTION:Czym jest dźwiękosfera? Jak oczyszczać surowy materiał? Jak zacząć tworzyć podcasty? Podcast to trochę słowo wytrych i można pod nim umieścić bardzo dużo form mówionych lub......
URL:https://app.evenea.pl/event/mwkwarsztatypodcasty/
PRIORITY:1
CLASS:PUBLIC
END:VEVENT
END:VCALENDAR
