BEGIN:VCALENDAR
VERSION:2.0
METHOD:PUBLISH
BEGIN:VEVENT
DTSTART:20260210T154500
DTEND:20260210T154500
LOCATION:Centrum Rozwoju Inicjatyw Społecznych CRIS Rudzka 13C  Rybnik
TRANSP: OPAQUE
SEQUENCE:0
UID:
DTSTAMP:20260420T130942Z
SUMMARY:Myślenie projektowe - warsztaty pisania projektów społecznych.
DESCRIPTION:Masz pomysły na działania społeczne, ale nie wiesz, jak przekuć je w projekt i konkretny wniosek o dofinansowanie? Zapisz się na szkolenie pt. "Myślenie projektowe", a dowiesz się, jak......
URL:https://app.evenea.pl/event/myslenieprojektowe/
PRIORITY:1
CLASS:PUBLIC
END:VEVENT
END:VCALENDAR
