BEGIN:VCALENDAR
VERSION:2.0
METHOD:PUBLISH
BEGIN:VEVENT
DTSTART:20210907T110000
DTEND:20210907T110000
LOCATION:on-line   
TRANSP: OPAQUE
SEQUENCE:0
UID:
DTSTAMP:20260426T053312Z
SUMMARY:PFR Otwarte Innowacje - Nabór nr 9 i spotkanie informacyjne
DESCRIPTION:PFR Ventures zaprasza na spotkanie informacyjne na temat dziewiątego naboru do programu Otwarte Innowacje. W trakcie wydarzenia przedstawimy główne założenia PFR OI, a także omówimy......
URL:https://app.evenea.pl/event/nabor9oi/
PRIORITY:1
CLASS:PUBLIC
END:VEVENT
END:VCALENDAR
