BEGIN:VCALENDAR
VERSION:2.0
METHOD:PUBLISH
BEGIN:VEVENT
DTSTART:20260329T120000
DTEND:20260329T120000
LOCATION:Most Staromiejski Mostowa  Bydgoszcz
TRANSP: OPAQUE
SEQUENCE:0
UID:
DTSTAMP:20260422T190019Z
SUMMARY:Nad Kanałem - 29 marca
DESCRIPTION:To spacer, podczas którego spojrzymy na Kanał Bydgoski nie tylko jako na wodny szlak, ale jako na świadectwo ambicji, wizji i pracy pokoleń. Z jednej strony - miejsca dobrze znane mieszkańcom,......
URL:https://app.evenea.pl/event/nadkanalem/
PRIORITY:1
CLASS:PUBLIC
END:VEVENT
END:VCALENDAR
