BEGIN:VCALENDAR
VERSION:2.0
METHOD:PUBLISH
BEGIN:VEVENT
DTSTART:20240819T000000
DTEND:20240901T235900
LOCATION:Fundacja IB Polska   Kraków
TRANSP: OPAQUE
SEQUENCE:0
UID:
DTSTAMP:20260423T210415Z
SUMMARY:Rozzieleńmy się! - Najładniejsza doniczka
DESCRIPTION:Najładniejsza doniczka Zachęcamy do wykorzystania doniczek, które już macie w domach i ich odświeżenia lub zmiany wyglądu. Zespół oceni doniczki na podstawie ich ekologiczności, estetyki,......
URL:https://app.evenea.pl/event/najladniejszadoniczka/
PRIORITY:1
CLASS:PUBLIC
END:VEVENT
END:VCALENDAR
