BEGIN:VCALENDAR
VERSION:2.0
METHOD:PUBLISH
BEGIN:VEVENT
DTSTART:20240801T000000
DTEND:20240828T235900
LOCATION:Fundacja IB Polska   Kraków
TRANSP: OPAQUE
SEQUENCE:0
UID:
DTSTAMP:20260423T020828Z
SUMMARY:Rozzieleńmy się! - Najładniejszy balkon
DESCRIPTION:Warunkiem wzięcia udziału w zabawie jest przesłanie min. 2 zdjęć (w tym jednego z osobą wysyłającą zgłoszenie). W przypadku osób niepełnoletnich pamiętajcie aby przesłać podpisaną......
URL:https://app.evenea.pl/event/najladniejszybalkon/
PRIORITY:1
CLASS:PUBLIC
END:VEVENT
END:VCALENDAR
