BEGIN:VCALENDAR
VERSION:2.0
METHOD:PUBLISH
BEGIN:VEVENT
DTSTART:20200620T132000
DTEND:20200620T140000
LOCATION:spotkanie on-line   Gdynia
TRANSP: OPAQUE
SEQUENCE:0
UID:
DTSTAMP:20260421T130023Z
SUMMARY:Najnowsze trendy florystyczne i pielęgnacja roślin ciętych
DESCRIPTION:Miejskie Hale Targowe w Gdyni zapraszają na Akademię Kwiatów - moduł edukacyjny z praktycznymi poradami w formule on-line. Akademia Kwiatów jest częścią wydarzenia Festiwalu Kwiatów -......
URL:https://app.evenea.pl/event/najnowszetrendyflorystyczneipielegnacjaroslincietych/
PRIORITY:1
CLASS:PUBLIC
END:VEVENT
END:VCALENDAR
