BEGIN:VCALENDAR
VERSION:2.0
METHOD:PUBLISH
BEGIN:VEVENT
DTSTART:20220525T100000
DTEND:20220525T130000
LOCATION:PLATFORMA ZOOM   
TRANSP: OPAQUE
SEQUENCE:0
UID:
DTSTAMP:20260420T132211Z
SUMMARY:Pomorska podróż- kierunek innowacje. WEBINAR "Napisz sam biznesplan. O czym warto pamiętać startując z innowacyjnym biznesem?"
DESCRIPTION:Pomorska Agencja Rozwoju Regionalnego S.A zaprasza na webinar pt. "Napisz sam biznesplan. O czym warto pamiętać startując z innowacyjnym biznesem?" webinar jest realizowany w ramach szerokiego......
URL:https://app.evenea.pl/event/napiszsambiznesplan/
PRIORITY:1
CLASS:PUBLIC
END:VEVENT
END:VCALENDAR
