BEGIN:VCALENDAR
VERSION:2.0
METHOD:PUBLISH
BEGIN:VEVENT
DTSTART:20191212T180000
DTEND:20191212T180000
LOCATION:Strefa Inspiracji aleja Grunwaldzka 211  Gdańsk
TRANSP: OPAQUE
SEQUENCE:0
UID:
DTSTAMP:20260425T224733Z
SUMMARY:Zaskakujący prezent - Spotkanie Świąteczne - DZIEWCZYNY SIĘ SPOTYKAJĄ
DESCRIPTION:Jak zwykle przygotowujemy coś specjalnego, wartego Twojego czasu DZIEWCZYNO!Święta to czas cudowny, czas kiedy każdy z nas otrzymuje prezent i obdarowuje nimi innych. Podczas naszego......
URL:https://app.evenea.pl/event/narodzenie2019/
PRIORITY:1
CLASS:PUBLIC
END:VEVENT
END:VCALENDAR
