BEGIN:VCALENDAR
VERSION:2.0
METHOD:PUBLISH
BEGIN:VEVENT
DTSTART:20230622T094500
DTEND:20230622T094500
LOCATION:Hotel Pogoria Residence Al. Józefa Piłsudskiego 13  Dąbrowa Górnicza
TRANSP: OPAQUE
SEQUENCE:0
UID:
DTSTAMP:20260421T133016Z
SUMMARY:Negocjacje międzynarodowe
DESCRIPTION:Fundusz Górnośląski S.A. zaprasza na bezpłatne warsztaty dla przedsiębiorców sektora małych i średnich przedsiębiorstw z województwa śląskiego, planujących działalność......
URL:https://app.evenea.pl/event/negocjacjemiedzynarodowe/
PRIORITY:1
CLASS:PUBLIC
END:VEVENT
END:VCALENDAR
