BEGIN:VCALENDAR
VERSION:2.0
METHOD:PUBLISH
BEGIN:VEVENT
DTSTART:20250803T120000
DTEND:20250803T120000
LOCATION:ZODIAK Warszawski Pawilon Architektury Pasaż Wiecha 4  Warszawa
TRANSP: OPAQUE
SEQUENCE:0
UID:
DTSTAMP:20260422T133331Z
SUMMARY:Neonowe latawce | warsztaty
DESCRIPTION:Warsztaty "Neonowe latawce" przeznaczone są dla osób w każdym wieku.Osiedle Latawiec to najbardziej znaczący projekt Eleonory Sekreckiej zrealizowany w ramach odbudowy stolicy. Architektura......
URL:https://app.evenea.pl/event/neonowelatawce/
PRIORITY:1
CLASS:PUBLIC
END:VEVENT
END:VCALENDAR
