BEGIN:VCALENDAR
VERSION:2.0
METHOD:PUBLISH
BEGIN:VEVENT
DTSTART:20251104T163000
DTEND:20251104T163000
LOCATION:Poznań Biznes Partner ul. 28 czerwca 1956r. nr 404, sala C, II piętro  Poznań
TRANSP: OPAQUE
SEQUENCE:0
UID:
DTSTAMP:20260422T131121Z
SUMMARY:Networking strategiczny. Jak budować relacje, które naprawdę działają
DESCRIPTION:Poznań Biznes Partner oraz Spark Flow Pro zapraszają na bezpłatne szkolenie stacjonarne pt. "Networking strategiczny. Jak budować relacje, które naprawdę działają"Networking to nie tylko......
URL:https://app.evenea.pl/event/networking-strategiczny/
PRIORITY:1
CLASS:PUBLIC
END:VEVENT
END:VCALENDAR
