BEGIN:VCALENDAR
VERSION:2.0
METHOD:PUBLISH
BEGIN:VEVENT
DTSTART:20250522T160000
DTEND:20250522T160000
LOCATION:+Jeden Za Bramką 1  Poznań
TRANSP: OPAQUE
SEQUENCE:0
UID:
DTSTAMP:20260421T162218Z
SUMMARY:Networking Workshop during Grow in Poznan - international business conference
DESCRIPTION:[Wersja polska poniżej]Date: May 22, 2025, 4:00 PM Location: Coworking Space "+Jeden", Za Bramką Street 1, PoznańJoin us for a unique networking workshop in English, taking place on May 22,......
URL:https://app.evenea.pl/event/networkingworkshop/
PRIORITY:1
CLASS:PUBLIC
END:VEVENT
END:VCALENDAR
