BEGIN:VCALENDAR
VERSION:2.0
METHOD:PUBLISH
BEGIN:VEVENT
DTSTART:20250820T180000
DTEND:20250820T220000
LOCATION:Klub Atelier Aleja Franciszka Mamuszki 2  Sopot
TRANSP: OPAQUE
SEQUENCE:0
UID:
DTSTAMP:20260423T092245Z
SUMMARY:Beach Meeting dla Przedsiębiorców
DESCRIPTION:Beach Meeting dla PrzedsiębiorcówGDZIE?📍 Klub Atelier SopotKIEDY?🗓️ 20.08 🕕 18:00Siostry w Biznesie i Klub200 zapraszają Cię na wyjątkowe wydarzenie:💎BEACH MEETING DLA......
URL:https://app.evenea.pl/event/netwrkingdlaprzedsiebiorcow2008/
PRIORITY:1
CLASS:PUBLIC
END:VEVENT
END:VCALENDAR
