BEGIN:VCALENDAR
VERSION:2.0
METHOD:PUBLISH
BEGIN:VEVENT
DTSTART:20250524T100000
DTEND:20250525T180000
LOCATION:ONLINE   
TRANSP: OPAQUE
SEQUENCE:0
UID:
DTSTAMP:20260426T051748Z
SUMMARY:Dekodowanie  Biologiczne i energetyczna wizja chorób neurologicznych - Isabelle Boos
DESCRIPTION:\n\n	Dekodowanie Biologiczne i energetyczna wizja chorób neurologicznych. Isabelle Boos\n\n\n\n	24-25.05.2025\n\n\n\n	Szkolenie odbywa się w godzinach 10:00-18:00\n\n\n\n	Szkolenie w języku......
URL:https://app.evenea.pl/event/neuroboos0525/
PRIORITY:1
CLASS:PUBLIC
END:VEVENT
END:VCALENDAR
