BEGIN:VCALENDAR
VERSION:2.0
METHOD:PUBLISH
BEGIN:VEVENT
DTSTART:20190916T180000
DTEND:20190916T200000
LOCATION:Collegium Civitas Pl. Defilad 1, XII piętro  Warszawa
TRANSP: OPAQUE
SEQUENCE:0
UID:
DTSTAMP:20260423T050038Z
SUMMARY:Neurosprzedaż i neuromarketing
DESCRIPTION:Już 16 września 2019 r., o godz. 18:00 (Collegium Civitas, PKiN, 12. piętro, s. 1222), zapraszamy na seminarium połączone z dniem otwartym studiów podyplomowych Neuromanagement, pt.:......
URL:https://app.evenea.pl/event/neuromanagement/
PRIORITY:1
CLASS:PUBLIC
END:VEVENT
END:VCALENDAR
