BEGIN:VCALENDAR
VERSION:2.0
METHOD:PUBLISH
BEGIN:VEVENT
DTSTART:20250405T093000
DTEND:20250406T163000
LOCATION:Kolumna Park ul. Hotelowa 1  95-082 Przygoń
TRANSP: OPAQUE
SEQUENCE:0
UID:
DTSTAMP:20260420T181358Z
SUMMARY:Neuro-przywództwo - czyli byc liderem dla siebie i innych.
DESCRIPTION:Neuro-przywództwo to podejście do rozwoju ludzi i biznesu z uwzględnieniem psychologicznych, neurologicznych i fizjologicznych aspektów funkcjonowania człowieka. To również zapoznanie się z......
URL:https://app.evenea.pl/event/neuronaukaibiznes/
PRIORITY:1
CLASS:PUBLIC
END:VEVENT
END:VCALENDAR
