BEGIN:VCALENDAR
VERSION:2.0
METHOD:PUBLISH
BEGIN:VEVENT
DTSTART:20240420T190000
DTEND:20240420T190000
LOCATION:Kolonia Aleja Gruwaldzka 51  Gdansk
TRANSP: OPAQUE
SEQUENCE:0
UID:
DTSTAMP:20260420T163646Z
SUMMARY:Negation Institute Live Act 20424
DESCRIPTION:Negation Institute Live Act 20424PURGIST (Kielce)Suicydalna dysforia.purgist.bandcamp.comJONATHAN BERGEN (Berlin)Jonathan Bergen, interdyscyplinarny artysta mieszkający w Berlinie, słynie nie......
URL:https://app.evenea.pl/event/ni200424/
PRIORITY:1
CLASS:PUBLIC
END:VEVENT
END:VCALENDAR
