BEGIN:VCALENDAR
VERSION:2.0
METHOD:PUBLISH
BEGIN:VEVENT
DTSTART:20190630T090000
DTEND:20190630T110000
LOCATION:Regionalne Centrum Kultur Pogranicza w Krośnie ul. Kolejowa 1  Krosno
TRANSP: OPAQUE
SEQUENCE:0
UID:
DTSTAMP:20260422T183315Z
SUMMARY:Krośnieński Festiwal Bliskości 30 czerwca 2019 - (Nie)bunt dwulatka
DESCRIPTION:Zapraszam na spotkanie dotyczące dzieci w wieku od ok. 1,5 do 3,5 roku życia. Okres ten potocznie nazywany "buntem dwulatka" to wyjątkowo wymagający czas, zarówno dla rodziców, jak i dla......
URL:https://app.evenea.pl/event/niebuntdwulatka/
PRIORITY:1
CLASS:PUBLIC
END:VEVENT
END:VCALENDAR
