BEGIN:VCALENDAR
VERSION:2.0
METHOD:PUBLISH
BEGIN:VEVENT
DTSTART:20240607T190000
DTEND:20240607T190000
LOCATION:GAK Plama, Teatr w blokowisku ul. Pilotów 11  Gdańsk
TRANSP: OPAQUE
SEQUENCE:0
UID:
DTSTAMP:20260425T221849Z
SUMMARY:Nie lubiem teatru.
DESCRIPTION:,,Nie lubiem teatru." to czytanie performatywne studentek 3 roku Zarządzania Instytucjami Artystycznymi Uniwersytetu Gdańskiego. Wydarzenie odbędzie się w Gdańskim Teatrze w Blokowisku......
URL:https://app.evenea.pl/event/nielubiemteatru/
PRIORITY:1
CLASS:PUBLIC
END:VEVENT
END:VCALENDAR
