BEGIN:VCALENDAR
VERSION:2.0
METHOD:PUBLISH
BEGIN:VEVENT
DTSTART:20231116T180000
DTEND:20231116T193000
LOCATION:Online   
TRANSP: OPAQUE
SEQUENCE:0
UID:
DTSTAMP:20260423T070027Z
SUMMARY:Warsztaty (Nie)widzialni (online, 16.11.2023 r.)
DESCRIPTION:📣 Zapraszamy na Warsztaty "(Nie)widzialni"! 🌟Cieszymy się, że jesteś zainteresowany/a naszym wyjątkowym wydarzeniem, które ma na celu podniesienie świadomości na temat niewidocznych......
URL:https://app.evenea.pl/event/niewidzialnigda1611online/
PRIORITY:1
CLASS:PUBLIC
END:VEVENT
END:VCALENDAR
