BEGIN:VCALENDAR
VERSION:2.0
METHOD:PUBLISH
BEGIN:VEVENT
DTSTART:20220825T100000
DTEND:20220825T113000
LOCATION:Szkolenie online Dostęp zdalny  Dla uczestników
TRANSP: OPAQUE
SEQUENCE:0
UID:
DTSTAMP:20260424T123100Z
SUMMARY:#NiskiePodatki: najważniejsze zmiany rozliczeń podatkowych po 1 lipca 2022 r.
DESCRIPTION:Wakacje 2022 r. przyniosły kolejne zmiany rozliczeń podatkowych. Podczas spotkania prelegenci z Izby Administracji Skarbowej w Bydgoszczy wyjaśnią na czym polegają.Podczas szkolenia omówione......
URL:https://app.evenea.pl/event/niskie-podatki/
PRIORITY:1
CLASS:PUBLIC
END:VEVENT
END:VCALENDAR
