BEGIN:VCALENDAR
VERSION:2.0
METHOD:PUBLISH
BEGIN:VEVENT
DTSTART:20220805T133000
DTEND:20220807T180000
LOCATION:Miejsce zostanie wysłane uczestnikom szkolenia ul.Bohaterów Monte Cassino  Sopot
TRANSP: OPAQUE
SEQUENCE:0
UID:
DTSTAMP:20260425T175353Z
SUMMARY:Kurs Uwodzenia NLS 5-7 sierpnia 2022 w Sopocie
DESCRIPTION:Zapraszamy na wakacyjne 3 dniowe szkolenie z Uwodzenia Kobiet - 5-7 Sierpnia 2022 r w SopocieJesteś tu pierwszy raz i chciałbyś dowiedzieć się więcej o NLS?Przeczytaj książkę napisaną......
URL:https://app.evenea.pl/event/nls-camp22/
PRIORITY:1
CLASS:PUBLIC
END:VEVENT
END:VCALENDAR
