BEGIN:VCALENDAR
VERSION:2.0
METHOD:PUBLISH
BEGIN:VEVENT
DTSTART:20200314T120000
DTEND:20200315T180000
LOCATION:Lokalizacja zostanie wysłana uczestnikom szkolenia Piotrkowska  Łódź
TRANSP: OPAQUE
SEQUENCE:0
UID:
DTSTAMP:20260424T184920Z
SUMMARY:NLS Hipnotyczny Seks - Kurs technik seksualnych 14-15.03 Łódź
DESCRIPTION:NLS Hipnotyczny Seks - Kurs technik seksualnychJak przeciętnie wyglądający facet może stać się seksualną obsesją kobietyCzyli NLS Hipnotyczny SeksCzy zdarzyło Ci się, że w trakcie seksu......
URL:https://app.evenea.pl/event/nls-tantra/
PRIORITY:1
CLASS:PUBLIC
END:VEVENT
END:VCALENDAR
