BEGIN:VCALENDAR
VERSION:2.0
METHOD:PUBLISH
BEGIN:VEVENT
DTSTART:20191213T123000
DTEND:20191215T180000
LOCATION:Miejsce zostanie wysłane uczestnikom szkolenia Marszałkowska  Warszawa
TRANSP: OPAQUE
SEQUENCE:0
UID:
DTSTAMP:20260425T174737Z
SUMMARY:Kurs Uwodzenia NLS - 13-15 grudnia Warszawa - poziom podstawowy
DESCRIPTION:Zapraszamy na3 dniowe szkolenie podstawowe z Uwodzenia KobietJesteś tu pierwszy raz i chciałbyś dowiedzieć się więcej o NLS?Przeczytaj książkę napisaną przez założycieli szkoły,......
URL:https://app.evenea.pl/event/nls-waw/
PRIORITY:1
CLASS:PUBLIC
END:VEVENT
END:VCALENDAR
