BEGIN:VCALENDAR
VERSION:2.0
METHOD:PUBLISH
BEGIN:VEVENT
DTSTART:20191019T180000
DTEND:20191019T184000
LOCATION:Laboratoria Zakładu Histologii i Embriologii Katedry Morfologii i Embriologii Człowieka UMW Zbiórka: CNIM ul. Marcinkowskiego 2-6  Wrocław
TRANSP: OPAQUE
SEQUENCE:0
UID:
DTSTAMP:20260424T184120Z
SUMMARY:Noc Laboratoriów 2019 Nie wszystko złoto, co się świeci od 15 r.ż.
DESCRIPTION:Uczestnicy warsztatów zapoznają się z podstawami mikroskopii fluorescencyjnej. Fluorescencja to zjawisko emitowania światła przez odpowiednio pobudzoną cząsteczkę. W naszej pracowni......
URL:https://app.evenea.pl/event/nlzlotoii/
PRIORITY:1
CLASS:PUBLIC
END:VEVENT
END:VCALENDAR
