BEGIN:VCALENDAR
VERSION:2.0
METHOD:PUBLISH
BEGIN:VEVENT
DTSTART:20211009T180000
DTEND:20211009T180000
LOCATION:Książnica Pomorska im. Stanisława Staszica w Szczecinie ul. Podgórna 15/16  Szczecin
TRANSP: OPAQUE
SEQUENCE:0
UID:
DTSTAMP:20260421T232629Z
SUMMARY:Stanisława Lema epizod szczeciński/ godz. 18.00
DESCRIPTION:Opowieść o Stanisławie Lemie i prezentacja listów pisarza ze zbiorów Książnicy Pomorskiej.Limit dla poszczególnych godzin: 10 osób.Wejście: ul. Dworcowa.Miejsce: Sala Stefana Flukowskiego....
URL:https://app.evenea.pl/event/nocbibliotekstanislawlemkp18/
PRIORITY:1
CLASS:PUBLIC
END:VEVENT
END:VCALENDAR
