BEGIN:VCALENDAR
VERSION:2.0
METHOD:PUBLISH
BEGIN:VEVENT
DTSTART:20220604T163000
DTEND:20220605T033000
LOCATION:Klub Studencki Żaczek Al. 3 Maja 5  Kraków
TRANSP: OPAQUE
SEQUENCE:0
UID:
DTSTAMP:20260423T125717Z
SUMMARY:Noc Informatyka 1.3
DESCRIPTION:Noc Informatyka nie jest typową konferencją, jakich wiele - tu nie ma garniturów i formalizmów, poza prelekcjami na uczestników czekają inne atrakcje, a prelekcje odbywają się w nocy. SALA......
URL:https://app.evenea.pl/event/nocinformatyka13/
PRIORITY:1
CLASS:PUBLIC
END:VEVENT
END:VCALENDAR
