BEGIN:VCALENDAR
VERSION:2.0
METHOD:PUBLISH
BEGIN:VEVENT
DTSTART:20221121T190000
DTEND:20221126T235900
LOCATION:Budynek H-14 Politechniki Wrocławskiej Wybrzeże Stanisława Wyspiańskiego 40  Wrocław
TRANSP: OPAQUE
SEQUENCE:0
UID:
DTSTAMP:20260420T142935Z
SUMMARY:Nocne Listowanie 2022
DESCRIPTION:Nocne Listowanie to wyjątkowe wydarzenie, które polega na wieczorno-nocnym pisaniu listów z prośbą o wsparcie programu stypendialnego dla studentów z niepełnosprawnością, którzy podjęli......
URL:https://app.evenea.pl/event/nocnelistowanie2022/
PRIORITY:1
CLASS:PUBLIC
END:VEVENT
END:VCALENDAR
