BEGIN:VCALENDAR
VERSION:2.0
METHOD:PUBLISH
BEGIN:VEVENT
DTSTART:20251213T163000
DTEND:20251213T180000
LOCATION:   Bartne
TRANSP: OPAQUE
SEQUENCE:0
UID:
DTSTAMP:20260422T124944Z
SUMMARY:Nocne życie lasu / warsztaty / Odkryj dzikość Beskidu Niskiego
DESCRIPTION:Warsztaty "Nocne życie lasu" będą okazją, by doświadczyć lasu po zmroku i zobaczyć, jak bardzo różni się on od znanego nam, obserwowanego za dnia. Podczas spaceru porozmawiamy o tym, jak......
URL:https://app.evenea.pl/event/nocnezycielasu/
PRIORITY:1
CLASS:PUBLIC
END:VEVENT
END:VCALENDAR
