BEGIN:VCALENDAR
VERSION:2.0
METHOD:PUBLISH
BEGIN:VEVENT
DTSTART:20250905T200000
DTEND:20250905T200000
LOCATION:Dziedziniec Zamku Piastowskiego Zamkowa 1  Legnica
TRANSP: OPAQUE
SEQUENCE:0
UID:
DTSTAMP:20260424T105239Z
SUMMARY:Nosferatu - Symfonia Grozy
DESCRIPTION:Kultowy horror na wielkim ekranie - w niezwykłej oprawie muzycznej stworzonej specjalnie do tego pokazu, wykonywanej na żywo!Pod dziedzińcem jednego z najstarszych zamków w Polsce, którego......
URL:https://app.evenea.pl/event/nosferatu-symfoniagrozy/
PRIORITY:1
CLASS:PUBLIC
END:VEVENT
END:VCALENDAR
