BEGIN:VCALENDAR
VERSION:2.0
METHOD:PUBLISH
BEGIN:VEVENT
DTSTART:20241011T190000
DTEND:20241011T190000
LOCATION:Plac przy Gminnym Ośrodku Kultury w Krypnie Krypno Wielkie 7  Krypno
TRANSP: OPAQUE
SEQUENCE:0
UID:
DTSTAMP:20260423T023919Z
SUMMARY:"Nosferatu - dziennik zarazy" OFF Polska - Krypno
DESCRIPTION: Spektakl "Nosferatu - dziennik zarazy" jest inspirowany powieścią "Dracula" Brama Stokera oraz filmem "Nosferatu - symfonia grozy" w reżyserii Friedrich Wilhelm Murnau. Te zrealizowane już......
URL:https://app.evenea.pl/event/nosferatu1110/
PRIORITY:1
CLASS:PUBLIC
END:VEVENT
END:VCALENDAR
