BEGIN:VCALENDAR
VERSION:2.0
METHOD:PUBLISH
BEGIN:VEVENT
DTSTART:20220216T170000
DTEND:20220216T183000
LOCATION:Centrum Obywatelskie Ofiar Terroru 56a  Rydułtowy
TRANSP: OPAQUE
SEQUENCE:0
UID:
DTSTAMP:20260420T061545Z
SUMMARY:Spotkanie informacyjne dla wnioskodawców "Śląskie NOWEFIO 2021-2023"
DESCRIPTION:Już niebawem rusza kolejna edycja konkursu "Śląskie NOWEFIO 2021-2023". Młode organizacje pozarządowe (działające do 60 miesięcy) oraz grupy nieformalne z terenu województwa śląskiego......
URL:https://app.evenea.pl/event/nowefio/
PRIORITY:1
CLASS:PUBLIC
END:VEVENT
END:VCALENDAR
