BEGIN:VCALENDAR
VERSION:2.0
METHOD:PUBLISH
BEGIN:VEVENT
DTSTART:20240620T090000
DTEND:20240620T090000
LOCATION:Szarlota Urban Lab Ofiar Terroru 56a  Rydułtowy
TRANSP: OPAQUE
SEQUENCE:0
UID:
DTSTAMP:20260424T121821Z
SUMMARY:Przygotowanie projektów w konkursie grantowym "Śląskie NOWEFIO 2024-2026"
DESCRIPTION:Zapraszamy na spotkanie doradcze na temat przygotowania projektów w ramach konkursu grantowego "Śląskie NOWEFIO 2024-2026" w Szarlota Urban Lab w Rydułtowach (ul. Ofiar Terroru 56a). Doradca......
URL:https://app.evenea.pl/event/nowefiodoradztworyd/
PRIORITY:1
CLASS:PUBLIC
END:VEVENT
END:VCALENDAR
