BEGIN:VCALENDAR
VERSION:2.0
METHOD:PUBLISH
BEGIN:VEVENT
DTSTART:20240606T160000
DTEND:20240606T160000
LOCATION:Urząd Miasta Jastrzębie-Zdrój (sala sesyjna) Al. Piłsudskiego 60  Jastrzębie-Zdrój
TRANSP: OPAQUE
SEQUENCE:0
UID:
DTSTAMP:20260421T232618Z
SUMMARY:Jastrzębie-Zdrój: Jak skutecznie wnioskować o środki w konkursie grantowym "Śląskie NOWEFIO 2024-2026"?
DESCRIPTION:Zapraszamy na spotkanie na temat konkursu grantowego "Śląskie NOWEFIO 2024-2026". Spotkanie odbędzie się 6 czerwca o 16:00 w Urzędzie Miasta Jastrzębie-Zdrój (Al. Józefa Piłsudskiego 60,......
URL:https://app.evenea.pl/event/nowefiojastrzebie2024/
PRIORITY:1
CLASS:PUBLIC
END:VEVENT
END:VCALENDAR
